BEGIN:VCALENDAR
VERSION:2.0
PRODID:-//swoogo.com//NONSGML kigkonsult.se iCalcreator 2.41.90//
CALSCALE:GREGORIAN
UID:63366161-3735-4232-a635-346238303038
BEGIN:VEVENT
UID:2c0e56f0afca22bcfbbcdaf852deee84b5d4dd65@swoogo.com
DTSTAMP:20260421T160227Z
DESCRIPTION:Join us for a unique virtual event designed to demystify the po
 st-doc application process—specifically for programs in integrated primary
  care and behavioral health.\n\nThis session brings together faculty and t
 raining directors from several leading programs to provide GENERAL GUIDANC
 E AND EXPERT ADVICE on how to navigate the postdoc search\, application\, 
 and interview process. 
DTSTART:20250909T170000Z
DTEND:20250909T190000Z
LAST-MODIFIED:20260421T160227Z
LOCATION:https://cfha.swoogo.com/postdoc-program-fair_2025/v/e
SEQUENCE:0
STATUS:CONFIRMED
SUMMARY:Postdoc Program Fair
TRANSP:OPAQUE
X-ALT-DESC;FMTTYPE=text/html:<p>Join us for a unique virtual event designed
  to demystify the post-doc application process—specifically for programs i
 n integrated primary care and behavioral health.</p>\n\n<p>This session br
 ings together faculty and training directors from several leading programs
  to provide <strong>general guidance and expert advice</strong> on how to 
 navigate the postdoc search\, application\, and interview process. </p>
BEGIN:VALARM
UID:61316138-3335-4438-b035-633963353764
ACTION:DISPLAY
DESCRIPTION:Join us for a unique virtual event designed to demystify the po
 st-doc application process—specifically for programs in integrated primary
  care and behavioral health.\n\nThis session brings together faculty and t
 raining directors from several leading programs to provide GENERAL GUIDANC
 E AND EXPERT ADVICE on how to navigate the postdoc search\, application\, 
 and interview process. 
TRIGGER:-PT15M
END:VALARM
END:VEVENT
END:VCALENDAR
